BEGIN:VCALENDAR
VERSION:2.0
PRODID:SchoolNow
CALSCALE:GREGORIAN
BEGIN:VEVENT
UID:5a6c5b6a-4ae1-11f0-867e-026e9a9e9493
DTSTAMP:20251216T214528Z
SUMMARY:Staff Institute Day #1
URL;VALUE=URI:https://www.sd735.org/middleton/calendar/8310197/staff-instit
 ute-day-1
DTSTART;VALUE=DATE:20250821
DTEND;VALUE=DATE:20250822
END:VEVENT
END:VCALENDAR
