BEGIN:VCALENDAR
VERSION:2.0
PRODID:SchoolNow
CALSCALE:GREGORIAN
BEGIN:VEVENT
UID:5a6c3b9e-4ae1-11f0-9ef2-026e9a9e9493
DTSTAMP:20251216T214529Z
SUMMARY:Staff Institute Day #3 (NO SCHOOL)
URL;VALUE=URI:https://www.sd735.org/middleton/calendar/8310196/staff-instit
 ute-day-3-no-school
DTSTART;VALUE=DATE:20251031
DTEND;VALUE=DATE:20251101
END:VEVENT
END:VCALENDAR
