BEGIN:VCALENDAR
VERSION:2.0
PRODID:SchoolNow
CALSCALE:GREGORIAN
BEGIN:VEVENT
UID:802267fa-47e4-11f0-8e01-0afffdfe2153
DTSTAMP:20251216T214529Z
SUMMARY:Memorial Day (NO SCHOOL & DISTRICT CLOSED)
URL;VALUE=URI:https://www.sd735.org/middleton/calendar/8293987/memorial-day
 -no-school-district-closed
DTSTART;VALUE=DATE:20260525
DTEND;VALUE=DATE:20260526
END:VEVENT
END:VCALENDAR
