BEGIN:VCALENDAR
VERSION:2.0
PRODID:SchoolNow
CALSCALE:GREGORIAN
BEGIN:VEVENT
UID:80226610-47e4-11f0-ba9a-0afffdfe2153
DTSTAMP:20251216T214529Z
SUMMARY:Martin Luther King\, Jr. Day Observed (NO SCHOOL & DISTRICT CLOSED)
URL;VALUE=URI:https://www.sd735.org/middleton/calendar/8293979/martin-luthe
 r-king-jr-day-observed-no-school-district-closed
DTSTART;VALUE=DATE:20260119
DTEND;VALUE=DATE:20260120
END:VEVENT
END:VCALENDAR
