BEGIN:VCALENDAR
VERSION:2.0
PRODID:SchoolNow
CALSCALE:GREGORIAN
BEGIN:VEVENT
UID:80226502-47e4-11f0-9442-0afffdfe2153
DTSTAMP:20251216T214528Z
SUMMARY:School Resumes
URL;VALUE=URI:https://www.sd735.org/middleton/calendar/8293977/school-resum
 es
DTSTART;VALUE=DATE:20260105
DTEND;VALUE=DATE:20260106
END:VEVENT
END:VCALENDAR
