BEGIN:VCALENDAR
VERSION:2.0
PRODID:SchoolNow
CALSCALE:GREGORIAN
BEGIN:VEVENT
UID:802263e0-47e4-11f0-851d-0afffdfe2153
DTSTAMP:20251216T214529Z
SUMMARY:New Year's Day (DISTRICT CLOSED)
URL;VALUE=URI:https://www.sd735.org/middleton/calendar/8293975/new-years-da
 y-district-closed
DTSTART;VALUE=DATE:20260101
DTEND;VALUE=DATE:20260102
END:VEVENT
END:VCALENDAR
