BEGIN:VCALENDAR
VERSION:2.0
PRODID:SchoolNow
CALSCALE:GREGORIAN
BEGIN:VEVENT
UID:80226250-47e4-11f0-8cb9-0afffdfe2153
DTSTAMP:20251216T214529Z
SUMMARY:New Year's Eve (DISTRICT CLOSED)
URL;VALUE=URI:https://www.sd735.org/middleton/calendar/8293974/new-years-ev
 e-district-closed
DTSTART;VALUE=DATE:20251231
DTEND;VALUE=DATE:20260101
END:VEVENT
END:VCALENDAR
