BEGIN:VCALENDAR
VERSION:2.0
PRODID:SchoolNow
CALSCALE:GREGORIAN
BEGIN:VEVENT
UID:835b7fde-47b1-11f0-a7d0-0e34f9a9b7bd
DTSTAMP:20251216T214529Z
SUMMARY:Winter Break (NO SCHOOL)
URL;VALUE=URI:https://www.sd735.org/middleton/calendar/8292554/winter-break
 -no-school
DTSTART;VALUE=DATE:20251229
DTEND;VALUE=DATE:20260103
END:VEVENT
END:VCALENDAR
