BEGIN:VCALENDAR
VERSION:2.0
PRODID:SchoolNow
CALSCALE:GREGORIAN
BEGIN:VEVENT
UID:835b7ef8-47b1-11f0-8dcb-0e34f9a9b7bd
DTSTAMP:20251216T214528Z
SUMMARY:Winter Break (NO SCHOOL)
URL;VALUE=URI:https://www.sd735.org/middleton/calendar/8292553/winter-break
 -no-school
DTSTART;VALUE=DATE:20251222
DTEND;VALUE=DATE:20251227
END:VEVENT
END:VCALENDAR
