BEGIN:VCALENDAR
VERSION:2.0
PRODID:SchoolNow
CALSCALE:GREGORIAN
BEGIN:VEVENT
UID:835b7e12-47b1-11f0-aaed-0e34f9a9b7bd
DTSTAMP:20251216T214529Z
SUMMARY:Thanksgiving Day (DISTRICT CLOSED)
URL;VALUE=URI:https://www.sd735.org/middleton/calendar/8292552/thanksgiving
 -day-district-closed
DTSTART;VALUE=DATE:20251127
DTEND;VALUE=DATE:20251128
END:VEVENT
END:VCALENDAR
