BEGIN:VCALENDAR
VERSION:2.0
PRODID:SchoolNow
CALSCALE:GREGORIAN
BEGIN:VEVENT
UID:835b7d2c-47b1-11f0-8f40-0e34f9a9b7bd
DTSTAMP:20251216T214528Z
SUMMARY:Thanksgiving Break (NO SCHOOL)
URL;VALUE=URI:https://www.sd735.org/middleton/calendar/8292551/thanksgiving
 -break-no-school
DTSTART;VALUE=DATE:20251124
DTEND;VALUE=DATE:20251129
END:VEVENT
END:VCALENDAR
