BEGIN:VCALENDAR
VERSION:2.0
PRODID:SchoolNow
CALSCALE:GREGORIAN
BEGIN:VEVENT
UID:835b7c3c-47b1-11f0-b765-0e34f9a9b7bd
DTSTAMP:20251216T214528Z
SUMMARY:Indigenous Peoples' Day (NO SCHOOL & DISTRICT CLOSED)
URL;VALUE=URI:https://www.sd735.org/middleton/calendar/8292550/indigenous-p
 eoples-day-no-school-district-closed
DTSTART;VALUE=DATE:20251013
DTEND;VALUE=DATE:20251014
END:VEVENT
END:VCALENDAR
