BEGIN:VCALENDAR
VERSION:2.0
PRODID:SchoolNow
CALSCALE:GREGORIAN
BEGIN:VEVENT
UID:835b7b42-47b1-11f0-8f6d-0e34f9a9b7bd
DTSTAMP:20251216T214529Z
SUMMARY:Labor Day (NO SCHOOL & DISTRICT CLOSED)
URL;VALUE=URI:https://www.sd735.org/middleton/calendar/8292549/labor-day-no
 -school-district-closed
DTSTART;VALUE=DATE:20250901
DTEND;VALUE=DATE:20250902
END:VEVENT
END:VCALENDAR
