BEGIN:VCALENDAR
VERSION:2.0
PRODID:SchoolNow
CALSCALE:GREGORIAN
BEGIN:VEVENT
UID:835b7a20-47b1-11f0-b21f-0e34f9a9b7bd
DTSTAMP:20251216T214529Z
SUMMARY:Preschool First Day of School
URL;VALUE=URI:https://www.sd735.org/middleton/calendar/8292548/preschool-fi
 rst-day-of-school
DTSTART;VALUE=DATE:20250902
DTEND;VALUE=DATE:20250903
END:VEVENT
END:VCALENDAR
