BEGIN:VCALENDAR
VERSION:2.0
PRODID:SchoolNow
CALSCALE:GREGORIAN
BEGIN:VEVENT
UID:835b789a-47b1-11f0-bd52-0e34f9a9b7bd
DTSTAMP:20251216T214528Z
SUMMARY:Kindergarten First Day of School
URL;VALUE=URI:https://www.sd735.org/middleton/calendar/8292547/kindergarten
 -first-day-of-school
DTSTART;VALUE=DATE:20250826
DTEND;VALUE=DATE:20250827
END:VEVENT
END:VCALENDAR
