BEGIN:VCALENDAR
VERSION:2.0
PRODID:SchoolNow
CALSCALE:GREGORIAN
BEGIN:VEVENT
UID:948c3a7a-464c-11f0-9df0-0219819082e5
DTSTAMP:20251216T214528Z
SUMMARY:Board of Education Regular Meeting
LOCATION:McCracken MPR
URL;VALUE=URI:https://www.sd735.org/middleton/calendar/8282110/board-of-edu
 cation-regular-meeting
DTSTART:20260610T000000Z
DTEND:20260610T023000Z
END:VEVENT
END:VCALENDAR
