BEGIN:VCALENDAR
VERSION:2.0
PRODID:SchoolNow
CALSCALE:GREGORIAN
BEGIN:VEVENT
UID:948c3980-464c-11f0-a4f4-0219819082e5
DTSTAMP:20251216T214529Z
SUMMARY:Board of Education Regular Meeting
LOCATION:McCracken MPR
URL;VALUE=URI:https://www.sd735.org/middleton/calendar/8282109/board-of-edu
 cation-regular-meeting
DTSTART:20260513T000000Z
DTEND:20260513T023000Z
END:VEVENT
END:VCALENDAR
