BEGIN:VCALENDAR
VERSION:2.0
PRODID:SchoolNow
CALSCALE:GREGORIAN
BEGIN:VEVENT
UID:948c34da-464c-11f0-a672-0219819082e5
DTSTAMP:20251216T214528Z
SUMMARY:Board of Education Regular Meeting
LOCATION:McCracken MPR
URL;VALUE=URI:https://www.sd735.org/middleton/calendar/8282105/board-of-edu
 cation-regular-meeting
DTSTART:20260114T010000Z
DTEND:20260114T033000Z
END:VEVENT
END:VCALENDAR
