BEGIN:VCALENDAR
VERSION:2.0
PRODID:SchoolNow
CALSCALE:GREGORIAN
BEGIN:VEVENT
UID:948c2bc0-464c-11f0-a731-0219819082e5
DTSTAMP:20251216T214528Z
SUMMARY:Board of Education Regular Meeting
LOCATION:Oliver McCracken Middle School\, 8000 E Prairie Rd\, Skokie\, IL 6
 0076\, USA
URL;VALUE=URI:https://www.sd735.org/middleton/calendar/8282103/board-of-edu
 cation-regular-meeting
DTSTART:20251112T010000Z
DTEND:20251112T033000Z
END:VEVENT
END:VCALENDAR
