BEGIN:VCALENDAR
VERSION:2.0
PRODID:SchoolNow
CALSCALE:GREGORIAN
BEGIN:VEVENT
UID:94866d52-464c-11f0-b7c4-0219819082e5
DTSTAMP:20251216T214528Z
SUMMARY:Board of Education Regular Meeting
LOCATION:John Middleton Elementary School\, 8300 St Louis Ave\, Skokie\, IL
  60076\, USA
URL;VALUE=URI:https://www.sd735.org/middleton/calendar/8282102/board-of-edu
 cation-regular-meeting
DTSTART:20251015T000000Z
DTEND:20251015T023000Z
END:VEVENT
END:VCALENDAR
