BEGIN:VCALENDAR
VERSION:2.0
PRODID:SchoolNow
CALSCALE:GREGORIAN
BEGIN:VEVENT
UID:07c43712-3d89-11f0-820e-0a58a9feac02
DTSTAMP:20251216T214528Z
SUMMARY:Middleton Supply Drop-off
LOCATION:John Middleton Elementary School\, 8300 St Louis Ave\, Skokie\, IL
  60076\, USA
URL;VALUE=URI:https://www.sd735.org/middleton/calendar/8226222/middleton-su
 pply-drop-off
DTSTART:20250822T190000Z
DTEND:20250822T200000Z
END:VEVENT
END:VCALENDAR
