BEGIN:VCALENDAR
VERSION:2.0
PRODID:SchoolNow
CALSCALE:GREGORIAN
BEGIN:VEVENT
UID:07c4356e-3d89-11f0-b409-0a58a9feac02
DTSTAMP:20251216T214528Z
SUMMARY:Middleton Popsicles in the Park
LOCATION:John Middleton Elementary School\, 8300 St Louis Ave\, Skokie\, IL
  60076\, USA
URL;VALUE=URI:https://www.sd735.org/middleton/calendar/8226221/middleton-po
 psicles-in-the-park
DTSTART:20250818T220000Z
DTEND:20250818T230000Z
END:VEVENT
END:VCALENDAR
