BEGIN:VCALENDAR
VERSION:2.0
PRODID:SchoolNow
CALSCALE:GREGORIAN
BEGIN:VEVENT
UID:07c416ce-3d89-11f0-856d-0a58a9feac02
DTSTAMP:20251216T214528Z
SUMMARY:Middleton New Student & Incoming 1st Grade Information Night
LOCATION:John Middleton Elementary School\, 8300 St Louis Ave\, Skokie\, IL
  60076\, USA
URL;VALUE=URI:https://www.sd735.org/middleton/calendar/8226220/middleton-ne
 w-student-incoming-1st-grade-information-night
DTSTART:20250818T210000Z
DTEND:20250818T220000Z
END:VEVENT
END:VCALENDAR
