BEGIN:VCALENDAR
VERSION:2.0
PRODID:SchoolNow
CALSCALE:GREGORIAN
BEGIN:VEVENT
UID:0e677690-3cf0-11f0-9a07-0281bf5f27bd
DTSTAMP:20251216T214529Z
SUMMARY:Meyer Party on the Playground
LOCATION:Elizabeth Meyer School\, 8100 Tripp Ave\, Skokie\, IL 60076\, USA
URL;VALUE=URI:https://www.sd735.org/middleton/calendar/8222429/meyer-party-
 on-the-playground
DTSTART:20250821T220000Z
DTEND:20250821T230000Z
END:VEVENT
END:VCALENDAR
