BEGIN:VCALENDAR
VERSION:2.0
PRODID:SchoolNow
CALSCALE:GREGORIAN
BEGIN:VEVENT
UID:d335ba42-f0a4-11ef-9e5c-023d9dd55d9d
DTSTAMP:20251216T214528Z
SUMMARY:McCracken 6th Grade Meet & Greet
LOCATION:Oliver McCracken Middle School\, 8000 E Prairie Rd\, Skokie\, IL 6
 0076\, USA
URL;VALUE=URI:https://www.sd735.org/middleton/calendar/7518286/mccracken-6t
 h-grade-meet-greet
DTSTART:20250819T210000Z
DTEND:20250819T230000Z
END:VEVENT
END:VCALENDAR
