BEGIN:VCALENDAR
VERSION:2.0
PRODID:SchoolNow
CALSCALE:GREGORIAN
BEGIN:VEVENT
UID:5ec92f12-3cbc-11f1-8227-0ea850d9fba7
DTSTAMP:20260421T074013Z
SUMMARY:BOE Workshop: ELA Adoption/Progress & Math Exporation
LOCATION:Oliver McCracken Middle School\, 8000 E Prairie Rd\, Skokie\, IL 6
 0076\, USA
URL;VALUE=URI:https://www.sd735.org/calendar/9006902/boe-workshop-ela-adopt
 ion-progress-math-exporation
DTSTART:20260421T223000Z
DTEND:20260422T003000Z
END:VEVENT
END:VCALENDAR
