BEGIN:VCALENDAR
VERSION:2.0
PRODID:SchoolNow
CALSCALE:GREGORIAN
BEGIN:VEVENT
UID:78aafc86-369e-11f1-add3-0a58a9feac02
DTSTAMP:20260419T163511Z
SUMMARY:Be Well & Be Ready Community Health Fair
LOCATION:Oliver McCracken Middle School\, 8000 E Prairie Rd\, Skokie\, IL 6
 0076\, USA
URL;VALUE=URI:https://www.sd735.org/calendar/8989346/be-well-be-ready-commu
 nity-health-fair
DTSTART:20260425T150000Z
DTEND:20260425T190000Z
END:VEVENT
END:VCALENDAR
