BEGIN:VCALENDAR
VERSION:2.0
PRODID:SchoolNow
CALSCALE:GREGORIAN
BEGIN:VEVENT
UID:5e227752-369b-11f1-bb68-0a58a9feac02
DTSTAMP:20260419T163512Z
SUMMARY:Preschool Screenings
URL;VALUE=URI:https://www.sd735.org/calendar/8988859/preschool-screenings
DTSTART;VALUE=DATE:20260423
DTEND;VALUE=DATE:20260424
END:VEVENT
END:VCALENDAR
