BEGIN:VCALENDAR
VERSION:2.0
PRODID:SchoolNow
CALSCALE:GREGORIAN
BEGIN:VEVENT
UID:345645cc-3059-11f1-bc45-0a58a9feac02
DTSTAMP:20260419T163512Z
SUMMARY:Caregivers of Diverse Learners Event
LOCATION:Oliver McCracken Middle School\, 8000 E Prairie Rd\, Skokie\, IL 6
 0076\, USA
URL;VALUE=URI:https://www.sd735.org/calendar/8970733/caregivers-of-diverse-
 learners-event
DTSTART:20260415T233000Z
DTEND:20260416T003000Z
END:VEVENT
END:VCALENDAR
