BEGIN:VCALENDAR
VERSION:2.0
PRODID:SchoolNow
CALSCALE:GREGORIAN
BEGIN:VEVENT
UID:929d68dc-17f8-11f1-8b29-0affefa8676b
DTSTAMP:20260419T163511Z
SUMMARY:McCracken Boys JV Volleyball Tryouts
URL;VALUE=URI:https://www.sd735.org/calendar/8890959/mccracken-boys-jv-voll
 eyball-tryouts
DTSTART:20260313T211500Z
DTEND:20260313T221500Z
END:VEVENT
END:VCALENDAR
