BEGIN:VCALENDAR
VERSION:2.0
PRODID:SchoolNow
CALSCALE:GREGORIAN
BEGIN:VEVENT
UID:929d64b8-17f8-11f1-988d-0affefa8676b
DTSTAMP:20260419T163512Z
SUMMARY:McCracken Girls Varsity & JV Soccer Tryouts (6th\, 7th\, 8th grade)
URL;VALUE=URI:https://www.sd735.org/calendar/8890958/mccracken-girls-varsit
 y-jv-soccer-tryouts-6th-7th-8th-grade
DTSTART:20260319T200000Z
DTEND:20260319T213000Z
END:VEVENT
END:VCALENDAR
