BEGIN:VCALENDAR
VERSION:2.0
PRODID:SchoolNow
CALSCALE:GREGORIAN
BEGIN:VEVENT
UID:929d6094-17f8-11f1-8cc1-0affefa8676b
DTSTAMP:20260419T163511Z
SUMMARY:McCracken Boys 6th Grade Volleyball Tryouts
URL;VALUE=URI:https://www.sd735.org/calendar/8890957/mccracken-boys-6th-gra
 de-volleyball-tryouts
DTSTART:20260311T221500Z
DTEND:20260311T234500Z
END:VEVENT
END:VCALENDAR
