BEGIN:VCALENDAR
VERSION:2.0
PRODID:SchoolNow
CALSCALE:GREGORIAN
BEGIN:VEVENT
UID:922db942-17f8-11f1-a6da-0affefa8676b
DTSTAMP:20260419T163511Z
SUMMARY:McCracken Girls Varsity & JV Soccer Tryouts (6th\, 7th\, 8th grade)
URL;VALUE=URI:https://www.sd735.org/calendar/8890956/mccracken-girls-varsit
 y-jv-soccer-tryouts-6th-7th-8th-grade
DTSTART:20260323T200000Z
DTEND:20260323T213000Z
END:VEVENT
END:VCALENDAR
