BEGIN:VCALENDAR
VERSION:2.0
PRODID:SchoolNow
CALSCALE:GREGORIAN
BEGIN:VEVENT
UID:922db47e-17f8-11f1-b56b-0affefa8676b
DTSTAMP:20260419T163512Z
SUMMARY:McCracken Boys JV Volleyball Tryouts
URL;VALUE=URI:https://www.sd735.org/calendar/8890955/mccracken-boys-jv-voll
 eyball-tryouts
DTSTART:20260311T211500Z
DTEND:20260311T221500Z
END:VEVENT
END:VCALENDAR
