BEGIN:VCALENDAR
VERSION:2.0
PRODID:SchoolNow
CALSCALE:GREGORIAN
BEGIN:VEVENT
UID:3851015a-1662-11f1-98ca-0a58a9feac02
DTSTAMP:20260419T163511Z
SUMMARY:McCracken Girls Varsity Soccer Tournament FINAL GAME
LOCATION:TBD
URL;VALUE=URI:https://www.sd735.org/calendar/8884760/mccracken-girls-varsit
 y-soccer-tournament-final-game
DTSTART;VALUE=DATE:20260513
DTEND;VALUE=DATE:20260514
END:VEVENT
END:VCALENDAR
