BEGIN:VCALENDAR
VERSION:2.0
PRODID:SchoolNow
CALSCALE:GREGORIAN
BEGIN:VEVENT
UID:3850f9c6-1662-11f1-a983-0a58a9feac02
DTSTAMP:20260419T163511Z
SUMMARY:McCracken Girls JV Soccer at Culver
LOCATION:Clarence E Culver School\, 6901 W Oakton St\, Niles\, IL 60714\, U
 SA
URL;VALUE=URI:https://www.sd735.org/calendar/8884759/mccracken-girls-jv-soc
 cer-at-culver
DTSTART:20260512T210000Z
DTEND:20260512T220000Z
END:VEVENT
END:VCALENDAR
