BEGIN:VCALENDAR
VERSION:2.0
PRODID:SchoolNow
CALSCALE:GREGORIAN
BEGIN:VEVENT
UID:3850f23c-1662-11f1-8a16-0a58a9feac02
DTSTAMP:20260419T163511Z
SUMMARY:McCracken Girls JV Soccer at Lincoln
LOCATION:Lincoln Junior High School\, 7839 Lincoln Ave\, Skokie\, IL 60077\
 , USA
URL;VALUE=URI:https://www.sd735.org/calendar/8884757/mccracken-girls-jv-soc
 cer-at-lincoln
DTSTART:20260421T211500Z
DTEND:20260421T221500Z
END:VEVENT
END:VCALENDAR
