BEGIN:VCALENDAR
VERSION:2.0
PRODID:SchoolNow
CALSCALE:GREGORIAN
BEGIN:VEVENT
UID:3847772a-1662-11f1-a616-0a58a9feac02
DTSTAMP:20260419T163511Z
SUMMARY:McCracken Girls JV Soccer at Lincoln Hall
LOCATION:Lincoln Hall Middle School\, 6855 N Crawford Ave\, Lincolnwood\, I
 L 60712\, USA
URL;VALUE=URI:https://www.sd735.org/calendar/8884756/mccracken-girls-jv-soc
 cer-at-lincoln-hall
DTSTART:20260505T210000Z
DTEND:20260505T220000Z
END:VEVENT
END:VCALENDAR
