BEGIN:VCALENDAR
VERSION:2.0
PRODID:SchoolNow
CALSCALE:GREGORIAN
BEGIN:VEVENT
UID:38477432-1662-11f1-acc0-0a58a9feac02
DTSTAMP:20260419T163512Z
SUMMARY:McCracken Girls JV Soccer vs. Lincoln
LOCATION:Oliver McCracken Middle School\, 8000 E Prairie Rd\, Skokie\, IL 6
 0076\, USA
URL;VALUE=URI:https://www.sd735.org/calendar/8884754/mccracken-girls-jv-soc
 cer-vs-lincoln
DTSTART:20260508T211500Z
DTEND:20260508T221500Z
END:VEVENT
END:VCALENDAR
