BEGIN:VCALENDAR
VERSION:2.0
PRODID:SchoolNow
CALSCALE:GREGORIAN
BEGIN:VEVENT
UID:3847732e-1662-11f1-bbcc-0a58a9feac02
DTSTAMP:20260419T163512Z
SUMMARY:McCracken Girls JV Soccer at Fairview
LOCATION:Fairview South Elementary School\, 7040 Laramie Ave\, Skokie\, IL 
 60077\, USA
URL;VALUE=URI:https://www.sd735.org/calendar/8884753/mccracken-girls-jv-soc
 cer-at-fairview
DTSTART:20260414T210000Z
DTEND:20260414T220000Z
END:VEVENT
END:VCALENDAR
