BEGIN:VCALENDAR
VERSION:2.0
PRODID:SchoolNow
CALSCALE:GREGORIAN
BEGIN:VEVENT
UID:38477158-1662-11f1-8ce8-0a58a9feac02
DTSTAMP:20260419T163511Z
SUMMARY:McCracken Girls JV Soccer at Old Orchard
LOCATION:Old Orchard Jr High School\, 9310 Kenton Ave\, Skokie\, IL 60076\,
  USA
URL;VALUE=URI:https://www.sd735.org/calendar/8884752/mccracken-girls-jv-soc
 cer-at-old-orchard
DTSTART:20260430T210000Z
DTEND:20260430T220000Z
END:VEVENT
END:VCALENDAR
