BEGIN:VCALENDAR
VERSION:2.0
PRODID:SchoolNow
CALSCALE:GREGORIAN
BEGIN:VEVENT
UID:38476fdc-1662-11f1-9c44-0a58a9feac02
DTSTAMP:20260419T163512Z
SUMMARY:McCracken Girls JV Soccer vs. Culver
LOCATION:Oliver McCracken Middle School\, 8000 E Prairie Rd\, Skokie\, IL 6
 0076\, USA
URL;VALUE=URI:https://www.sd735.org/calendar/8884751/mccracken-girls-jv-soc
 cer-vs-culver
DTSTART:20260420T210000Z
DTEND:20260420T220000Z
END:VEVENT
END:VCALENDAR
