BEGIN:VCALENDAR
VERSION:2.0
PRODID:SchoolNow
CALSCALE:GREGORIAN
BEGIN:VEVENT
UID:38476dac-1662-11f1-8012-0a58a9feac02
DTSTAMP:20260419T163511Z
SUMMARY:McCracken Girls JV Soccer vs. Old Orchard
LOCATION:Oliver McCracken Middle School\, 8000 E Prairie Rd\, Skokie\, IL 6
 0076\, USA
URL;VALUE=URI:https://www.sd735.org/calendar/8884750/mccracken-girls-jv-soc
 cer-vs-old-orchard
DTSTART:20260407T211500Z
DTEND:20260407T221500Z
END:VEVENT
END:VCALENDAR
