BEGIN:VCALENDAR
VERSION:2.0
PRODID:SchoolNow
CALSCALE:GREGORIAN
BEGIN:VEVENT
UID:3847692e-1662-11f1-b565-0a58a9feac02
DTSTAMP:20260419T163511Z
SUMMARY:McCracken Girls Varsity Soccer Tournament ROUND 2
LOCATION:TBD
URL;VALUE=URI:https://www.sd735.org/calendar/8884749/mccracken-girls-varsit
 y-soccer-tournament-round-2
DTSTART:20260509T151500Z
DTEND:20260509T161500Z
END:VEVENT
END:VCALENDAR
