BEGIN:VCALENDAR
VERSION:2.0
PRODID:SchoolNow
CALSCALE:GREGORIAN
BEGIN:VEVENT
UID:37eb4306-1662-11f1-b92a-0a58a9feac02
DTSTAMP:20260419T163511Z
SUMMARY:McCracken Girls Varsity Soccer Tournament ROUND 1
LOCATION:TBD
URL;VALUE=URI:https://www.sd735.org/calendar/8884748/mccracken-girls-varsit
 y-soccer-tournament-round-1
DTSTART:20260509T133000Z
DTEND:20260509T143000Z
END:VEVENT
END:VCALENDAR
