BEGIN:VCALENDAR
VERSION:2.0
PRODID:SchoolNow
CALSCALE:GREGORIAN
BEGIN:VEVENT
UID:37eb3bea-1662-11f1-9a4e-0a58a9feac02
DTSTAMP:20260419T163511Z
SUMMARY:McCracken Girls JV Soccer at Park View
LOCATION:Park View Elementary School\, 6200 Lake St\, Morton Grove\, IL 600
 53\, USA
URL;VALUE=URI:https://www.sd735.org/calendar/8884746/mccracken-girls-jv-soc
 cer-at-park-view
DTSTART:20260423T210000Z
DTEND:20260423T220000Z
END:VEVENT
END:VCALENDAR
