BEGIN:VCALENDAR
VERSION:2.0
PRODID:SchoolNow
CALSCALE:GREGORIAN
BEGIN:VEVENT
UID:37eb37da-1662-11f1-ba0c-0a58a9feac02
DTSTAMP:20260419T163511Z
SUMMARY:McCracken Girls Varsity Soccer Tournament FINAL GAME
LOCATION:TBD
URL;VALUE=URI:https://www.sd735.org/calendar/8884745/mccracken-girls-varsit
 y-soccer-tournament-final-game
DTSTART;VALUE=DATE:20260514
DTEND;VALUE=DATE:20260515
END:VEVENT
END:VCALENDAR
