BEGIN:VCALENDAR
VERSION:2.0
PRODID:SchoolNow
CALSCALE:GREGORIAN
BEGIN:VEVENT
UID:775c5f3e-165d-11f1-9340-0a58a9feac02
DTSTAMP:20260419T163511Z
SUMMARY:McCracken Boys Varsity Volleyball at Park View
LOCATION:Park View Elementary School\, 6200 Lake St\, Morton Grove\, IL 600
 53\, USA
URL;VALUE=URI:https://www.sd735.org/calendar/8884742/mccracken-boys-varsity
 -volleyball-at-park-view
DTSTART:20260504T220000Z
DTEND:20260504T230000Z
END:VEVENT
END:VCALENDAR
