BEGIN:VCALENDAR
VERSION:2.0
PRODID:SchoolNow
CALSCALE:GREGORIAN
BEGIN:VEVENT
UID:775c5db8-165d-11f1-87b3-0a58a9feac02
DTSTAMP:20260419T163512Z
SUMMARY:McCracken Boys 6th Grade Volleyball: Fairview & Park View
LOCATION:Oliver McCracken Middle School\, 8000 E Prairie Rd\, Skokie\, IL 6
 0076\, USA
URL;VALUE=URI:https://www.sd735.org/calendar/8884741/mccracken-boys-6th-gra
 de-volleyball-fairview-park-view
DTSTART:20260407T210000Z
DTEND:20260407T220000Z
END:VEVENT
END:VCALENDAR
