BEGIN:VCALENDAR
VERSION:2.0
PRODID:SchoolNow
CALSCALE:GREGORIAN
BEGIN:VEVENT
UID:775c5c28-165d-11f1-8324-0a58a9feac02
DTSTAMP:20260419T163512Z
SUMMARY:McCracken Girls Varsity Soccer at Fairview
LOCATION:Fairview South Elementary School\, 7040 Laramie Ave\, Skokie\, IL 
 60077\, USA
URL;VALUE=URI:https://www.sd735.org/calendar/8884740/mccracken-girls-varsit
 y-soccer-at-fairview
DTSTART:20260506T210000Z
DTEND:20260506T220000Z
END:VEVENT
END:VCALENDAR
